BEGIN:VCALENDAR
VERSION:2.0
PRODID:icalendar-ruby
CALSCALE:GREGORIAN
METHOD:PUBLISH
BEGIN:VEVENT
DTSTAMP:20260423T175818Z
UID:172-2616626@holyhermits.com.au
DTSTART:20261030T073000Z
DTEND:20261030T083000Z
CLASS:PUBLIC
CREATED:20260424T025213
DESCRIPTION:Joining in\nWe join with the Benedictus community in an evening
  meditation practice on Zoom.\nIncluding time spent in silence with some i
 nput of a poem or prayer and then fellowship shared afterward.\nThe up-to-
 date link to join in at meditation can be found on the Benedictus website 
 home page. \nPlease be aware of daylight saving and the resulting time di
 fference.\nHow to meditate\nIf you come to Benedictus with an existing pra
 ctice of silent meditation\, you are welcome to continue meditating in the
  way you know.\nIf you are new to meditation\, we suggest the method taugh
 t by the World Community for Christian Meditation\, as follows:\n\nTo medi
 tate\, sit still and upright.\nClose your eyes lightly.\nSit relaxed but a
 lert.\nSilently\, interiorly begin to say a single word.\nWe recommend the
  prayer-phrase\, ‘Maranatha’.\nSay it as four syllables of equal lengt
 h.\nListen to it as you say it\, gently but continuously.\nDo not think or
  imagine anything – spiritual or otherwise.\nIf thoughts and images come
 \, these are distractions at the time of meditation\, so keep returning si
 mply to saying the word.\n
LAST-MODIFIED:20260424T025213
LOCATION:Zoom - Benedictus Link (shared in send outs)
SUMMARY:Benedictus Evening Meditation
URL;VALUE=URI:https://holyhermits.com.au/events/benedictus-evening-meditati
 on/2026-10-30
ATTACH;FILENAME=image_generation_2F44162_2Fd443c760_2cb1_11ef_88d4_1d7f25a5
 eebe_2Fimage0_1024_1024.png;FMTTYPE=image/png:https://dq5pwpg1q8ru0.cloudf
 ront.net/2024/07/26/01/04/20/36bb1122-9887-4523-a90c-1336cd1e7fec/image_ge
 neration_2F44162_2Fd443c760_2cb1_11ef_88d4_1d7f25a5eebe_2Fimage0_1024_1024
 .png
END:VEVENT
END:VCALENDAR
